BEGIN:VCALENDAR
VERSION:2.0
PRODID:-//Massachusetts Association of Campus Law Enforcement Administrators - ECPv6.15.20//NONSGML v1.0//EN
CALSCALE:GREGORIAN
METHOD:PUBLISH
X-WR-CALNAME:Massachusetts Association of Campus Law Enforcement Administrators
X-ORIGINAL-URL:https://maclea-ma.org
X-WR-CALDESC:Events for Massachusetts Association of Campus Law Enforcement Administrators
REFRESH-INTERVAL;VALUE=DURATION:PT1H
X-Robots-Tag:noindex
X-PUBLISHED-TTL:PT1H
BEGIN:VTIMEZONE
TZID:America/New_York
BEGIN:DAYLIGHT
TZOFFSETFROM:-0500
TZOFFSETTO:-0400
TZNAME:EDT
DTSTART:20250309T070000
END:DAYLIGHT
BEGIN:STANDARD
TZOFFSETFROM:-0400
TZOFFSETTO:-0500
TZNAME:EST
DTSTART:20251102T060000
END:STANDARD
BEGIN:DAYLIGHT
TZOFFSETFROM:-0500
TZOFFSETTO:-0400
TZNAME:EDT
DTSTART:20260308T070000
END:DAYLIGHT
BEGIN:STANDARD
TZOFFSETFROM:-0400
TZOFFSETTO:-0500
TZNAME:EST
DTSTART:20261101T060000
END:STANDARD
BEGIN:DAYLIGHT
TZOFFSETFROM:-0500
TZOFFSETTO:-0400
TZNAME:EDT
DTSTART:20270314T070000
END:DAYLIGHT
BEGIN:STANDARD
TZOFFSETFROM:-0400
TZOFFSETTO:-0500
TZNAME:EST
DTSTART:20271107T060000
END:STANDARD
END:VTIMEZONE
BEGIN:VEVENT
DTSTART;TZID=America/New_York:20260601T080000
DTEND;TZID=America/New_York:20260608T170000
DTSTAMP:20260423T082752
CREATED:20260414T125041Z
LAST-MODIFIED:20260414T125043Z
UID:10000017-1780300800-1780938000@maclea-ma.org
SUMMARY:QCC SECURITY OFFICERTRAINING INSTITUTE
DESCRIPTION:Get certified in security training! QCC is offering a 6 Day training on how to be a security officer. Topics include subjects like report writing\, communication skills\, observation and reporting\, fire safety\, CPR\, etc. \n\n\n\nUpon successfully completing this course\, you will be awarded a certificate of completion. You must be employed by a police or security agency in order to attend this training.Cost: $8998:00am – 5:00pm daily  \n\n\n\n\nRegistration\n\n\n\n\nsecurity guard training flyerDownload
URL:https://maclea-ma.org/event/qcc-security-officertraining-institute/
LOCATION:Surprenant\, Room 120S Quinsigamond Community College 670 West Boylston Street\, Worcester\, MA\, 670 West Boylston Street\, Worcester\,\, Massachusetts\, 01606
END:VEVENT
END:VCALENDAR